BEGIN:VCALENDAR
PRODID:NingEventWidget-v1
VERSION:2.0
METHOD:PUBLISH
BEGIN:VEVENT
UID:4320450:Event:29603
DTSTAMP:20260425T124912Z
SUMMARY:InLiquid Benefit v.13
DESCRIPTION:\nOne space. One night a year. One love: art.  An exclusiv
 e group of jurors from the Philly art scene will select three artists 
 to create limited edition prints for our sponsors and guests: • Robe
 rt Morrison, of The Project Group, and collector • Jennifer Zwilling
 , Independent Curator, and Associate Professor at PAFA and Tyler Schoo
 l of Art • Larry Becker and Heidi Nivling, of Larry Becker Contempor
 ary Art • Jim Houser, artist and last year’s Juror Pick  Preview a
 nd online bidding at www.inliquid.org starts Wednesday, January 30, 20
 13. Check back for the list of participating artists and donors. Photo
 s will be posted after the event.  Friday, February 15, 2013 5 – 6:3
 0 pm VIP Preview Party and Meet & Greet with Jurors The v.13 VIP Previ
 ew Party is a more intimate and formal occasion for high-level patrons
 , collectors, and sponsors, featuring exclusive live entertainment, a 
 meet and greet with the selected jurors, and pre-bidding on all silent
  auction items. Special Live Performance by Laurent Bass.  Admission: 
 $75 in advance* / $100 at the door (includes admission to the Main Eve
 nt from 6:30 to 9:30 pm)  Friday, February 15, 2013 6:30 – 9:30 pm I
 nLiquid v.13 Silent Auction Benefit InLiquid’s Annual Benefit is bot
 h a fabulous social happening and a showcase for the works of the regi
 on’s premier visual artists. As always, a major feature of our party
  is the array of art, gift certificates, jewelry, and design items ava
 ilable in a silent auction.   Admission: $40 in advance* / $50 at the 
 door  To Purchase Tickets & RSVP visit bit.ly/v13-tix To purchase tick
 ets by phone, call 215-235-3405 or mail a check to: v.13 Tickets, 1400
  N. American Street, #314, Philadelphia, PA 19122. Any questions, plea
 se contact Erica Minutella at 215-235-3405 or erica@inliquid.org  UBER
  Uber, “everyone’s private driver”, is proud and excited to be a
  part of this year’s InLiquid event! Uber will offer all attendees w
 ho are new users a free first ride up to $20 to or from the Crane Arts
  building with promotional code InLiquid13! www.uber.com/go/InLiquid13
     Donations being accepted now Want to help make this event a succes
 s? InLiquid believes in building strong partnerships, to create a bond
  of mutual support within the community. It is our goal that through y
 our support at our event we can help promote you, whether it is throug
 h new people discovering your art / shop / restaurant, or reconnecting
  you with your admirers. • Artists Donations – Deadline extended t
 o January 14th • Business Donations • Restaurant Food Donations 
  Sponsorship opportunities available • Advertising opportunities av
 ailable   Want to help work behind the scenes? InLiquid is seeking vol
 unteers for our upcoming Benefit v. 13. There are many volunteer shift
 s available, from Monday, February 11 to Monday, February 18, along wi
 th a variety of ways for you to help out! For more information on part
 icipating in this year’s event, or to select an open shift, visit th
 e Volunteer page or contact Erica Minutella at erica@inliquid.org.\n\n
 For more information visit http://phillytodo.com/events/inliquid-benef
 it-v-13
DTSTART:20130215T233000Z
DTEND:20130216T023000Z
CATEGORIES:silent, auction
LOCATION:Crane Arts Building
WEBSITE:http://inliquid.org/happenings/inliquid-projects/benefit/benef
 it-v-thirteen/
URL:http://inliquid.org/happenings/inliquid-projects/benefit/benefit-v
 -thirteen/
CONTACT:215-235-3405
ORGANIZER:InLiquid
ATTACH;FMTTYPE="image/jpeg":http://storage.ning.com/topology/rest/1.0/
 file/get/3054961200?profile=original
ATTENDEE;ROLE=REQ-PARTICIPANT;PARTSTAT=ACCEPTED;RSVP=TRUE;CN="Erica Mi
 nutella":http://phillytodo.com/profile/EricaMinutella
END:VEVENT
END:VCALENDAR
