BEGIN:VCALENDAR
PRODID:NingEventWidget-v1
VERSION:2.0
METHOD:PUBLISH
BEGIN:VEVENT
UID:4320450:Event:44605
DTSTAMP:20260425T144325Z
SUMMARY:InLiquid Benefit 2016 Young Professionals Night
DESCRIPTION:Friday, February 5, 5 – 10 pm engages new and early coll
 ectors with Young Professionals Night. Guests will be among the first 
 to view and place advance bids on the artwork and other items, as well
  as to learn about the importance of participating in the arts economy
 .\nMore importantly for the attendees, Young Professionals Night offer
 s a rare chance for members of various young professional groups to me
 et, mingle, and network. Participating organizations so far include Ca
 reer Wardrobe, Young Friends of the Philadelphia Museum of Art, Young 
 Involved Philadelphia, Young Xers, Young Supporters of the Clay Studio
 , Young Professionals Network, and Vivace. YP night tickets are $10 in
  advance, $15 at the door. Each guest will receive 4 tasting tickets t
 o sample offerings from local distilleries like Cooper River Distiller
 s, Rowhouse Spirits Distillery, Siembra Spirits, and more. Capture it 
 all at Poseybooth’s unique photobooth.\n\nFor more information visit
  http://phillytodo.com/events/inliquid-benefit-2016-young-professional
 s-night
DTSTART:20160205T220000Z
DTEND:20160206T030000Z
CATEGORIES:silent, auction
LOCATION:Crane Arts
WEBSITE:http://501auctions.com/inliquidbenefit
URL:http://501auctions.com/inliquidbenefit
CONTACT:2152353405
ORGANIZER:InLiquid
ATTACH;FMTTYPE="image/jpeg":http://storage.ning.com/topology/rest/1.0/
 file/get/3054993255?profile=original
ATTENDEE;ROLE=REQ-PARTICIPANT;PARTSTAT=ACCEPTED;RSVP=TRUE;CN="Erica Mi
 nutella":http://phillytodo.com/profile/EricaMinutella
END:VEVENT
END:VCALENDAR
