BEGIN:VCALENDAR
PRODID:NingEventWidget-v1
VERSION:2.0
METHOD:PUBLISH
BEGIN:VEVENT
UID:4320450:Event:57515
DTSTAMP:20260425T115440Z
SUMMARY:Inis Nua Theatre Company Presents Untitled
DESCRIPTION:Inis Nua Theatre presents the American premiere of Untitle
 d by English playwright Inua Ellams. Two brothers are born on Nigerian
  Independence Day. But on the night of their naming, one brother cries
  out and refuses to be named. Untitled is his story and story of his b
 rother who names products in his London career. It’s a world where m
 yth intertwines with reality, where the past catches up to us, and whe
 re a name spells destiny. Directed by Jerrell L. Henderson. Untitled r
 uns from April 24 to May 12, 2019 at the Louis Bluver Theatre at the D
 rake, 302 South Hicks Street. Tickets are $25 - $35. For reservations 
 and more information, visit inisnuatheatre.org.\n\nFor more informatio
 n visit http://phillytodo.com/events/inis-nua-theatre-company-presents
 -untitled
DTSTART:20190424T040000Z
DTEND:20190513T035900Z
CATEGORIES:theatre
LOCATION:Louis Bluver Theatre at the Drake
WEBSITE:
URL:
CONTACT:215-454-9776
ORGANIZER;CN="Aversa PR & Events":http://phillytodo.com/profile/KoryAv
 ersa277
ATTACH;FMTTYPE="image/jpeg":https://storage.ning.com/topology/rest/1.0
 /file/get/1293244785?profile=original
ATTENDEE;ROLE=REQ-PARTICIPANT;PARTSTAT=ACCEPTED;RSVP=TRUE;CN="Aversa P
 R & Events":http://phillytodo.com/profile/KoryAversa277
END:VEVENT
END:VCALENDAR
