BEGIN:VCALENDAR
PRODID:NingEventWidget-v1
VERSION:2.0
METHOD:PUBLISH
BEGIN:VEVENT
UID:4320450:Event:49470
DTSTAMP:20260425T143108Z
SUMMARY:Inis Nua Theatre Co Presents Swallow by Stef Smith
DESCRIPTION:Inis Nua Theatre Company presents the American Premiere of
  Swallow, by Scottish playwright Stef Smith from April 26 to May 14, 2
 017, at the Proscenium Theater at The Drake (302 S. Hicks). Directed b
 y Claire Moyer, Swallow is the story of three strangers and their frag
 ile connections with each other and the world around them.  Stepping 
 or falling, sometimes there is no difference. Tickets are $25-35 and o
 n sale at (215) 454-9776 or inisnuatheatre.org.\n\nFor more informatio
 n visit http://phillytodo.com/events/inis-nua-theatre-co-presents-swal
 low-by-stef-smith
DTSTART:20170426T230000Z
DTEND:20170514T180000Z
CATEGORIES:play, theatre
LOCATION:Proscenium Theater at the Drake
WEBSITE:https://inisnuatheatre.secure.force.com/ticket#details_a0S3700
 0003p5tNEAQ
URL:https://inisnuatheatre.secure.force.com/ticket#details_a0S37000003
 p5tNEAQ
CONTACT:215-454-9776
ORGANIZER:Inis Nua
ATTACH;FMTTYPE="image/jpeg":
ATTENDEE;ROLE=REQ-PARTICIPANT;PARTSTAT=ACCEPTED;RSVP=TRUE;CN="Aversa P
 R & Events":http://phillytodo.com/profile/KoryAversa277
END:VEVENT
END:VCALENDAR
