BEGIN:VCALENDAR
PRODID:NingEventWidget-v1
VERSION:2.0
METHOD:PUBLISH
BEGIN:VEVENT
UID:4320450:Event:31584
DTSTAMP:20260425T130440Z
SUMMARY:Infant Storytime
DESCRIPTION:Designed for children aged birth to 24 months, infant stor
 ytimes consist of books, music, fingerplays, rhymes, and puppets. The 
 program is free but please register in advance here \n\nFor more inf
 ormation visit http://phillytodo.com/events/infant-storytime
DTSTART:20130409T143000Z
DTEND:20130409T160000Z
CATEGORIES:"kid's", program
LOCATION:Lansdowne Public Library
WEBSITE:http://www.lansdownepubliclibrary.com/
URL:http://www.lansdownepubliclibrary.com/
CONTACT:610-623-0239
ORGANIZER;CN="Lansdowne Public Library":http://phillytodo.com/profile/
 LansdownePublicLibrary
ATTACH;FMTTYPE="image/jpeg":http://storage.ning.com/topology/rest/1.0/
 file/get/3054965054?profile=original
ATTENDEE;ROLE=REQ-PARTICIPANT;PARTSTAT=ACCEPTED;RSVP=TRUE;CN="Lansdown
 e Public Library":http://phillytodo.com/profile/LansdownePublicLibrary
END:VEVENT
END:VCALENDAR
