BEGIN:VCALENDAR
PRODID:NingEventWidget-v1
VERSION:2.0
METHOD:PUBLISH
BEGIN:VEVENT
UID:4320450:Event:31809
DTSTAMP:20260425T124909Z
SUMMARY:Infant Storytime
DESCRIPTION:Designed for children aged birth to 24 months, infant stor
 ytimes consist of books, music, fingerplays, rhymes, and puppets. The 
 program is free but please register in advance here.\n\nFor more infor
 mation visit http://phillytodo.com/events/infant-storytime-2
DTSTART:20130423T143000Z
DTEND:20130423T160000Z
CATEGORIES:storytime, children, library
LOCATION:Lansdowne Public Library
WEBSITE:http://www.lansdownepubliclibrary.com/
URL:http://www.lansdownepubliclibrary.com/
CONTACT:610-623-0239
ORGANIZER;CN="Lansdowne Public Library":http://phillytodo.com/profile/
 LansdownePublicLibrary
ATTACH;FMTTYPE="image/jpeg":http://storage.ning.com/topology/rest/1.0/
 file/get/3054965054?profile=original
ATTENDEE;ROLE=REQ-PARTICIPANT;PARTSTAT=ACCEPTED;RSVP=TRUE;CN="Lansdown
 e Public Library":http://phillytodo.com/profile/LansdownePublicLibrary
END:VEVENT
END:VCALENDAR
