BEGIN:VCALENDAR
PRODID:NingEventWidget-v1
VERSION:2.0
METHOD:PUBLISH
BEGIN:VEVENT
UID:4320450:Event:47216
DTSTAMP:20260425T161552Z
SUMMARY:Indoor Vintage Market At The Kimmel Center
DESCRIPTION:Saturday, Aug 20th8AM - 4PMFree Admission!Vendors From The
  Tri-State Area FeaturingAntiques, Collectibles, Vintage Home Furnishi
 ngs, 19th Century Art Nouveau, Estate Jewelry, Vintage Clothing, Furn
 iture, Pottery, Primitives & Much More!The Kimmel Center300 S. Broad S
 treet (Broad & Spruce)Phila, PA 19102www.PhilaFleaMarkets.org 215 -- 
 625 -- 3532\n\nFor more information visit http://phillytodo.com/events
 /indoor-vintage-market-at-the-kimmel-center
DTSTART:20160820T120000Z
DTEND:20160820T200000Z
CATEGORIES:antique, flea, market
LOCATION:The Kimmel Center
WEBSITE:http://www.PhilaFleaMarkets.org
URL:http://www.PhilaFleaMarkets.org
CONTACT:215 - 625 - 3532
ORGANIZER;CN="Phila Flea Markets":http://phillytodo.com/profile/PhilaF
 leaMarkets
ATTACH;FMTTYPE="image/jpeg":http://storage.ning.com/topology/rest/1.0/
 file/get/3054980295?profile=original
ATTENDEE;ROLE=REQ-PARTICIPANT;PARTSTAT=ACCEPTED;RSVP=TRUE;CN="Phila Fl
 ea Markets":http://phillytodo.com/profile/PhilaFleaMarkets
END:VEVENT
END:VCALENDAR
