BEGIN:VCALENDAR
PRODID:NingEventWidget-v1
VERSION:2.0
METHOD:PUBLISH
BEGIN:VEVENT
UID:4320450:Event:56335
DTSTAMP:20260425T144524Z
SUMMARY:Indoor Phila Flea at Penns Landing Catering
DESCRIPTION:Penns Landing Caterers Inside The Sheet Metal Workers Unio
 n Bldg.\n1301 S. Columbus Blvd, South Phila\n(S. Columbus Blvd Between
  Washington & Reed)\n8AM til 4PM But Early Birds Are Welcome!\nSaturda
 y's\nNov 24th,  Dec 22nd,  Dec 29th,  Jan 12th,  Jan 26th,  Feb 2
 nd,  Feb 23rd\nFree Parking / Free Admission / ATM / Food Court / Han
 dicap Accessible\n215 - 625 - FLEA (3532)\nwww.PhilaFleaMarkets.org\n\
 n\n\n\n\nFor more information visit http://phillytodo.com/events/indoo
 r-phila-flea-at-penns-landing-catering-1
DTSTART:20181124T130000Z
DTEND:20181124T210000Z
CATEGORIES:flea, market
LOCATION:Penns Landing Caterers
WEBSITE:http://www.philafleamarkets.org/
URL:http://www.philafleamarkets.org/
CONTACT:2156253532
ORGANIZER;CN="Phila Flea Markets":http://phillytodo.com/profile/PhilaF
 leaMarkets
ATTACH;FMTTYPE="image/jpeg":http://storage.ning.com/topology/rest/1.0/
 file/get/341494902?profile=original
ATTENDEE;ROLE=REQ-PARTICIPANT;PARTSTAT=ACCEPTED;RSVP=TRUE;CN="Phila Fl
 ea Markets":http://phillytodo.com/profile/PhilaFleaMarkets
END:VEVENT
END:VCALENDAR
