BEGIN:VCALENDAR
PRODID:NingEventWidget-v1
VERSION:2.0
METHOD:PUBLISH
BEGIN:VEVENT
UID:4320450:Event:171360
DTSTAMP:20260425T100636Z
SUMMARY:Indoor / Outdoor Vintage Flea Market This Sat, Jan 28th!
DESCRIPTION:Penns Landing Caterers\n1301 S. Columbus Blvd,\nSouth Phil
 a\n\n8AM - 4Pm\n\nFree Parking & Free Admission!\n\nAntiques, Collecti
 bles, Vintage Jewelry & Clothing, Glassware, Artwork, Vintage Toys, Vi
 nyl and so much more!\nwww.PhilaFleaMarkets.org\n\nFor more informatio
 n visit http://phillytodo.com/events/indoor-outdoor-vintage-flea-marke
 t-this-sat-jan-28th
DTSTART:20230128T130000Z
DTEND:20230128T210000Z
CATEGORIES:flea, market
LOCATION:Penns Landing Caterers
WEBSITE:http://www.PhilaFleaMarkets.org
URL:http://www.PhilaFleaMarkets.org
CONTACT:215 - 625 - 3532
ORGANIZER;CN="Phila Flea Markets":http://phillytodo.com/profile/PhilaF
 leaMarkets
ATTACH;FMTTYPE="image/jpeg":https://storage.ning.com/topology/rest/1.0
 /file/get/10948730064?profile=original
ATTENDEE;ROLE=REQ-PARTICIPANT;PARTSTAT=ACCEPTED;RSVP=TRUE;CN="Phila Fl
 ea Markets":http://phillytodo.com/profile/PhilaFleaMarkets
END:VEVENT
END:VCALENDAR
