BEGIN:VCALENDAR
PRODID:NingEventWidget-v1
VERSION:2.0
METHOD:PUBLISH
BEGIN:VEVENT
UID:4320450:Event:56610
DTSTAMP:20260425T145003Z
SUMMARY:Indoor Antique &amp; Vintage Flea Market at Cherry Street Pier
DESCRIPTION:Come visit our indoor flea market at Cherry Street Pier!12
 1 N. Columbus Blvd at Race St.Phila, PA 191068am-8pmVendors From The T
 ri-State Area Featuring An Array Of Vintage Merchandise Such As Antiqu
 e Furniture, Collectibles, Vintage Jewelry & Clothing, Artwork, Glassw
 are, Pottery, Primitives, and Much More!See our website or call for mo
 re details: 215 - 625 - FLEA (3532)www.PhilaFleaMarkets.org\n\nFor mor
 e information visit http://phillytodo.com/events/indoor-antique-amp-vi
 ntage-flea-market-at-cherry-street-pier
DTSTART:20181103T120000Z
DTEND:20181104T000000Z
CATEGORIES:flea, market
LOCATION:Cherry Street Pier
WEBSITE:https://goo.gl/maps/Pkad86zTMyC2
URL:https://goo.gl/maps/Pkad86zTMyC2
CONTACT:2156253532
ORGANIZER;CN="Phila Flea Markets":http://phillytodo.com/profile/PhilaF
 leaMarkets
ATTACH;FMTTYPE="image/jpeg":http://storage.ning.com/topology/rest/1.0/
 file/get/3055015899?profile=original
ATTENDEE;ROLE=REQ-PARTICIPANT;PARTSTAT=ACCEPTED;RSVP=TRUE;CN="Phila Fl
 ea Markets":http://phillytodo.com/profile/PhilaFleaMarkets
END:VEVENT
END:VCALENDAR
