BEGIN:VCALENDAR
PRODID:NingEventWidget-v1
VERSION:2.0
METHOD:PUBLISH
BEGIN:VEVENT
UID:4320450:Event:26524
DTSTAMP:20260425T141556Z
SUMMARY:Independence Day Family Fun in Franklin Square
DESCRIPTION:July 4 – Independence Day Family Fun – Celebrate Ameri
 ca’s birthday with free activities for the whole family.  FREE!*\n\
 nFor more information visit http://phillytodo.com/events/independence-
 day-family-fun-in-franklin-square
DTSTART:20120704T160000Z
DTEND:20120704T190000Z
CATEGORIES:4th, of, july, community, family, kid, friendly, franklin, 
 square
LOCATION:Franklin Square
WEBSITE:http://www.historicphiladelphia.org
URL:http://www.historicphiladelphia.org
CONTACT:215-629-5801
ORGANIZER:Historic Philadelphia, Inc.
ATTACH;FMTTYPE="image/jpeg":http://storage.ning.com/topology/rest/1.0/
 file/get/3054958358?profile=original
ATTENDEE;ROLE=REQ-PARTICIPANT;PARTSTAT=ACCEPTED;RSVP=TRUE;CN="Cari Fei
 ler Bender":http://phillytodo.com/profile/CariFeilerBender
END:VEVENT
END:VCALENDAR
