BEGIN:VCALENDAR
PRODID:NingEventWidget-v1
VERSION:2.0
METHOD:PUBLISH
BEGIN:VEVENT
UID:4320450:Event:36568
DTSTAMP:20260425T142856Z
SUMMARY:Independence Day Family Fun in Franklin Square
DESCRIPTION:Celebrate America’s birthday with fun featuring carnival
  games ($.25 per play) and the Lightning Bolt Express Train ($5 adults
 , $4 children).\nAward-winning Franklin Square is a family-friendly pl
 ay place located in the heart of Historic Philadelphia, featuring Phil
 ly Mini Golf, a renovated vintage marble fountain, playgrounds, the Pa
 rx Liberty Carousel, and the acclaimed SquareBurger, with offerings fr
 om STARR Restaurants. \n\nFor more information visit http://phillytod
 o.com/events/independence-day-family-fun-in-franklin-square-1
DTSTART:20140704T160000Z
DTEND:20140706T190000Z
CATEGORIES:independence, day
LOCATION:Franklin Square
WEBSITE:http://www.historicphiladelphia.org
URL:http://www.historicphiladelphia.org
CONTACT:215-629-4026
ORGANIZER:
ATTACH;FMTTYPE="image/jpeg":
ATTENDEE;ROLE=REQ-PARTICIPANT;PARTSTAT=ACCEPTED;RSVP=TRUE;CN="Cari Fei
 ler Bender":http://phillytodo.com/profile/CariFeilerBender
END:VEVENT
END:VCALENDAR
