BEGIN:VCALENDAR
PRODID:NingEventWidget-v1
VERSION:2.0
METHOD:PUBLISH
BEGIN:VEVENT
UID:4320450:Event:40634
DTSTAMP:20260425T112405Z
SUMMARY:Independence After Hours
DESCRIPTION:Independence After Hours is an evening walking tour visiti
 ng some of the landmarks of Philadelphia’s Historic District and imm
 ersing the visitor with Colonial characters who bring history to life 
 right in the place where it happened. In this exclusive opportunity to
  visit inside Independence Hall at night after public hours, tour-take
 rs experience what those late nights of the summer of 1776 were like f
 or the Founding Fathers.  The evening begins with a delicious three-c
 ourse meal at the Historic City Tavern where Colonial townspeople ente
 rtain guests.  The Colonial host then “sneaks” everyone into the 
 Pennsylvania State House (Independence Hall), once he talks his way pa
 st the vigilant night watchman.  Inside the Hall, visitors witness se
 veral Founding Fathers deep in discussion over the creation of the Dec
 laration of Independence. \nAdd on Liberty 360 3D Show to complete yo
 ur night for only $5.\nMay 22 – June 6: Fridays and Saturdays, 5:30 
 pm\nJune 9 – August 15: Tuesdays – Saturdays, 5:30 pm\nAugust 21 
  October 24: Fridays and Saturdays, 5:30 pm\n\n\nDeparts from the Hi
 storic Philadelphia Center, 6th & Chestnut Streets\n$85 adults, $55 ch
 ildren 12 & under, $80 senior/military/student (dining gratuity includ
 ed)\nDuration: 2 ½ hours.  Wear comfortable shoes.  Recommended for
  children 10 and older.\n\nFor more information visit http://phillytod
 o.com/events/independence-after-hours-2
DTSTART:20150821T213000Z
DTEND:20151024T233000Z
CATEGORIES:tour
LOCATION:Historic Philadelphia Center, 6th and Chestnut Streets
WEBSITE:http://historicphiladelphia.org/
URL:http://historicphiladelphia.org/
CONTACT:
ORGANIZER:Historic Philadelphia Inc.
ATTACH;FMTTYPE="image/jpeg":
ATTENDEE;ROLE=REQ-PARTICIPANT;PARTSTAT=ACCEPTED;RSVP=TRUE;CN="Cari Fei
 ler Bender":http://phillytodo.com/profile/CariFeilerBender
END:VEVENT
END:VCALENDAR
