BEGIN:VCALENDAR
PRODID:NingEventWidget-v1
VERSION:2.0
METHOD:PUBLISH
BEGIN:VEVENT
UID:4320450:Event:58206
DTSTAMP:20260425T123406Z
SUMMARY:Indecent
DESCRIPTION:Indecent\nBy Paula Vogel\nDirected by Rebecca Wright\n\nF.
  Otto Haas Stage\n\nPulitzer Prize winner Paula Vogel's critically acc
 laimed play with music is about the creation of the controversial Yidd
 ish play God of Vengeance and is a joyful celebration of art and love.
 \n\nExpected Runtime: 2 hours with no intermission.\n\nAdults: $37-$52
 \nSeniors: $32-47\nChildren and Teens: $18\n\nFor more information vis
 it http://phillytodo.com/events/indecent-1
DTSTART:20190523T230000Z
DTEND:20190609T200000Z
CATEGORIES:theatre
LOCATION:Arden Theatre Company
WEBSITE:https://ardentheatre.org/event/indecent/2019-05-22/
URL:https://ardentheatre.org/event/indecent/2019-05-22/
CONTACT:215-922-1122
ORGANIZER;CN="Arden Theatre Company":http://phillytodo.com/profile/Ard
 enTheatreCompany
ATTACH;FMTTYPE="image/jpeg":https://storage.ning.com/topology/rest/1.0
 /file/get/2096716961?profile=original
ATTENDEE;ROLE=REQ-PARTICIPANT;PARTSTAT=ACCEPTED;RSVP=TRUE;CN="Arden Th
 eatre Company":http://phillytodo.com/profile/ArdenTheatreCompany
END:VEVENT
END:VCALENDAR
