BEGIN:VCALENDAR
PRODID:NingEventWidget-v1
VERSION:2.0
METHOD:PUBLISH
BEGIN:VEVENT
UID:4320450:Event:47173
DTSTAMP:20260425T143433Z
SUMMARY:In the Clearing at Philadelphia Fringe Festival
DESCRIPTION:Birds on a Wire Dance Theatre returns to the Philadelphia 
 Fringe Festival with In the Clearing, on September 9-10, 2016, at Chri
 st Church Neighborhood House (20 N American Street). Clearing.  This 
 contemporary, full-length dance work, directed by Artistic Director Me
 lissa Cameron, embarks on a journey through a fairy-tale forest to unc
 over the best and worst of humanity.  What do the dancers discover in
  these woods?  Beauty and nature?  Threats and danger?  Pack a picn
 ic basket in this BYOB (bring your own picnic basket) adventure and di
 scover what is In the Clearing. Showtimes are Friday, September 9th at
  8:00pm (with a craft market in lobby at 7:00pm), Saturday, September 
 10th at 1:00pm (with a kid dance session after show) and Saturday, Sep
 tember 10th at 6:00pm. Tickets are $17.00 each and available at www.fr
 ingearts.com/event/in-the-clearing/.\n\nFor more information visit htt
 p://phillytodo.com/events/in-the-clearing-at-philadelphia-fringe-festi
 val
DTSTART:20160910T000000Z
DTEND:20160910T220000Z
CATEGORIES:dance
LOCATION:Christ Church Neighborhood House
WEBSITE:http://fringearts.com/event/in-the-clearing/
URL:http://fringearts.com/event/in-the-clearing/
CONTACT:856-313-5819
ORGANIZER;CN="Aversa PR & Events":http://phillytodo.com/profile/KoryAv
 ersa277
ATTACH;FMTTYPE="image/jpeg":http://storage.ning.com/topology/rest/1.0/
 file/get/3054998451?profile=original
ATTENDEE;ROLE=REQ-PARTICIPANT;PARTSTAT=ACCEPTED;RSVP=TRUE;CN="Aversa P
 R & Events":http://phillytodo.com/profile/KoryAversa277
END:VEVENT
END:VCALENDAR
