BEGIN:VCALENDAR
PRODID:NingEventWidget-v1
VERSION:2.0
METHOD:PUBLISH
BEGIN:VEVENT
UID:4320450:Event:46842
DTSTAMP:20260425T144527Z
SUMMARY:#ImWithPurr Yappy Hour at the Morris Animal Refugfe
DESCRIPTION:In celebration of Philadelphia hosting the DNC, Devil’s 
 Den is pleased to present #ImWithPurr Yappy Hour to benefit Morris Ani
 mal Refuge. This Wednesday, July 27th, the courtyard for Morris Animal
  Refuge will be converted into a pop-up beer garden serving 21st Amend
 ment’s Hell or High Watermelon as well as Red, White and Blue Sangri
 a and the Democrat cocktail— whiskey, peach, honey, simple syrup and
  lemon juice. From 5-8pm, guests are encouraged to BYOD (bring your ow
 n dog) and enjoy complimentary cocktails, lite bites, and raffle prize
 s all while meeting adoptable animals. During Yappy Hour, cat adoption
  fees are half-price! Admission is a $20 donation / $15 for Morris Ani
 mal Refuge adopters.  More info: http://www.morrisanimalrefuge.org/eve
 nts-sp-791530905/upcoming-events/icalrepeat.detail/2016/07/27/503/-/dn
 c-yappy-hour\n\nFor more information visit http://phillytodo.com/event
 s/imwithpurr-yappy-hour-at-the-morris-animal-refugfe
DTSTART:20160727T210000Z
DTEND:20160728T000000Z
CATEGORIES:pop-up, beer, garden, animal, shelter, fundraiser, pet, ado
 ption
LOCATION:The Morris Animal Refuge
WEBSITE:http://www.morrisanimalrefuge.org/
URL:http://www.morrisanimalrefuge.org/
CONTACT:215-735-9570
ORGANIZER;CN="The Morris Animal Refuge":http://phillytodo.com/profile/
 TheMorrisAnimalRefuge
ATTACH;FMTTYPE="image/jpeg":http://storage.ning.com/topology/rest/1.0/
 file/get/3054997701?profile=original
ATTENDEE;ROLE=REQ-PARTICIPANT;PARTSTAT=ACCEPTED;RSVP=TRUE;CN="The Morr
 is Animal Refuge":http://phillytodo.com/profile/TheMorrisAnimalRefuge
END:VEVENT
END:VCALENDAR
