BEGIN:VCALENDAR
PRODID:NingEventWidget-v1
VERSION:2.0
METHOD:PUBLISH
BEGIN:VEVENT
UID:4320450:Event:35396
DTSTAMP:20260425T172019Z
SUMMARY:Improving Relationships through Meditation
DESCRIPTION:Can you remember a time when your life was filled with clo
 se friends, warm hearts, and happy times?  In this course we will lea
 rn practical meditation techniques to increase our love and kindness a
 nd help us to connect with others in relaxed and positive way.  Come 
 uncover the warmth and happiness that already exist within your own he
 art.\nNo meditation experience necessary. Everyone is welcome.\n\n$30.
 \nCourse Schedule:\nRegistration: 10:30-11:00am\nTeaching & Meditation
 : 11:00am-12:30pm\nLunch Break: 12:30-2:00pm\nTeaching & Meditation: 2
 :00-4:00pm\n\nFor more information visit http://phillytodo.com/events/
 improving-relationships-through-meditation
DTSTART:20140222T160000Z
DTEND:20140222T210000Z
CATEGORIES:meditation, class, buddhism, wellness, spiritual, buddhist
LOCATION:Amitayus Kadampa Buddhist Center
WEBSITE:http://www.meditationinphiladelphia.org/coming-in-from-the-col
 d-a-meditation-day-course/
URL:http://www.meditationinphiladelphia.org/coming-in-from-the-cold-a-
 meditation-day-course/
CONTACT:267-702-3817
ORGANIZER:Julie Francisco, Education Program Coordinator
ATTACH;FMTTYPE="image/jpeg":http://storage.ning.com/topology/rest/1.0/
 file/get/3054971015?profile=original
ATTENDEE;ROLE=REQ-PARTICIPANT;PARTSTAT=ACCEPTED;RSVP=TRUE;CN="Educatio
 n Program Coordinator":http://phillytodo.com/profile/EducationProgramC
 oordinator
END:VEVENT
END:VCALENDAR
