BEGIN:VCALENDAR
PRODID:NingEventWidget-v1
VERSION:2.0
METHOD:PUBLISH
BEGIN:VEVENT
UID:4320450:Event:33021
DTSTAMP:20260425T162638Z
SUMMARY:Improv Comedy: The N Crowd @ Roosevelt's Pub
DESCRIPTION:The N Crowd wants you to join them at this special Thursda
 y Night Show at Roosevelt's Pub!   We haven't performed on a Thursday
  night in half a decade!  Stop in early to grab a bite to eat and a d
 rink at their full bar and then enjoy an evening of laughs with The 
 N Crowd.   Bring a friend and help us make this a great event.   \n
 This is a 21+ event.  \nYou can purchase tickets in cash at the door 
 or online with a major credit card. Doors open at 7:30 pm. RSVP's are 
 held until 7:50 pm.Philly Style Magazine called this show ''Philadelph
 ia's premier improv comedy troupe\" while the Philly Metro said that t
 his troupe was \"keeping Philly funny.\" In 2008 and 2010, The N Crowd
  was named \"Best Comedy Club\" by City Voter's Hot List. Get the best
  80 minutes of entertainment that $12 can legally buy. You can check 
 out the official website for the latest news regarding shows. \nIf yo
 u like to laugh, then you'll love The N Crowd.\n\n\nFor more informati
 on visit http://phillytodo.com/events/improv-comedy-the-n-crowd-roosev
 elt-s-pub
DTSTART:20130703T220000Z
DTEND:20130703T230000Z
CATEGORIES:improv, comedy, show
LOCATION:Roosevelt's Pub
WEBSITE:http://www.eventbrite.com/event/7137034061
URL:http://www.eventbrite.com/event/7137034061
CONTACT:215-253-4276
ORGANIZER;CN="BJ Ellis":http://phillytodo.com/profile/BJEllis
ATTACH;FMTTYPE="image/jpeg":http://storage.ning.com/topology/rest/1.0/
 file/get/3054967097?profile=original
ATTENDEE;ROLE=REQ-PARTICIPANT;PARTSTAT=ACCEPTED;RSVP=TRUE;CN="BJ Ellis
 ":http://phillytodo.com/profile/BJEllis
END:VEVENT
END:VCALENDAR
