BEGIN:VCALENDAR
PRODID:NingEventWidget-v1
VERSION:2.0
METHOD:PUBLISH
BEGIN:VEVENT
UID:4320450:Event:33961
DTSTAMP:20260425T185632Z
SUMMARY:Improv Comedy:  The N Crowd - Audience Appreciation Night
DESCRIPTION:Do you love The N Crowd? Â We love you!\nJoin us for a spe
 cial show at 8pm on Saturday, September 14th at Ruba Hall. Â  We'll be
  having a speical Audience Appreciation night and you are invited! Â  
 Enjoy some weekend laughs and some drinks at Ruba's cash bar. Â  Â \nÂ
  \nIf you are always working on Fridays and can't see us, this is your
  night to have some laughs! Â \nÂ \nYou can purchase tickets in cash a
 t the door or online with a major credit card. Doors open at 7:30 pm. 
 RSVP's are held until 7:50 pm.\nPhilly Style Magazine called this show
  ''Philadelphia's premier improv comedy troupe\" while the Philly Metr
 o said that this troupe was \"keeping Philly funny.\" In 2008 and 2010
 , The N Crowd was named \"Best Comedy Club\" by City Voter's Hot List.
  Get the best 80 minutes of entertainment that $12 can legally buy.Â Y
 ou can check out the official website for the latest news regarding sh
 ows.Â \nIf you like to laugh, then you'll love The N Crowd.\nVisit us 
 atÂ www.phillyncrowd.com\n\n\nFor more information visit http://philly
 todo.com/events/improv-comedy-the-n-crowd-audience-appreciation-night
DTSTART:20130915T000000Z
DTEND:20130915T011500Z
CATEGORIES:improv, comedy, show
LOCATION:Ruba Hall
WEBSITE:http://www.eventbrite.com/event/8081294369/
URL:http://www.eventbrite.com/event/8081294369/
CONTACT:215-253-4276
ORGANIZER;CN="BJ Ellis":http://phillytodo.com/profile/BJEllis
ATTACH;FMTTYPE="image/jpeg":http://storage.ning.com/topology/rest/1.0/
 file/get/3054966746?profile=original
ATTENDEE;ROLE=REQ-PARTICIPANT;PARTSTAT=ACCEPTED;RSVP=TRUE;CN="BJ Ellis
 ":http://phillytodo.com/profile/BJEllis
END:VEVENT
END:VCALENDAR
