BEGIN:VCALENDAR
PRODID:NingEventWidget-v1
VERSION:2.0
METHOD:PUBLISH
BEGIN:VEVENT
UID:4320450:Event:16704
DTSTAMP:20260425T191201Z
SUMMARY:Improv Comedy:  The N Crowd
DESCRIPTION:The N Crowd wants you to share a laugh at the Actors Cente
 r. They perform improv entirely dependent on suggestions provided by t
 he audience. When you come, you're expected to have a slew of things t
 o yell out when asked for suggestions.\n\nYou can purchase tickets in 
 cash at the door or online with a major credit card. Doors open at 7:3
 0 pm. RSVP's are held until 7:50 pm.\n\n\nPhilly Style Magazine called
  this show ''Philadelphia's premier improv comedy troupe\" while the P
 hilly Metro said that this troupe was \"keeping Philly funny.\" In 200
 8 and 2010, The N Crowd was named \"Best Comedy Club\" by City Voter's
  Hot List. Get the best 80 minutes of entertainment that $10 can legal
 ly buy.\n\nYou can check out the official website for the latest news 
 regarding shows. Who knows what special guests might appear on any giv
 en week? Maybe someone you know will be a special guest this week.\n\n
 If you like to laugh, then you'll love The N Crowd.\n\nFor more inform
 ation visit http://phillytodo.com/events/improv-comedy-the-n-crowd-9
DTSTART:20110903T000000Z
DTEND:20110903T011500Z
CATEGORIES:improv, comedy, show
LOCATION:The Actors Center
WEBSITE:http://www.phillyncrowd.com
URL:http://www.phillyncrowd.com
CONTACT:215-253-4276
ORGANIZER:The N Crowd
ATTACH;FMTTYPE="image/jpeg":
ATTENDEE;ROLE=REQ-PARTICIPANT;PARTSTAT=ACCEPTED;RSVP=TRUE;CN="BJ Ellis
 ":http://phillytodo.com/profile/BJEllis
END:VEVENT
END:VCALENDAR
