BEGIN:VCALENDAR
PRODID:NingEventWidget-v1
VERSION:2.0
METHOD:PUBLISH
BEGIN:VEVENT
UID:4320450:Event:35643
DTSTAMP:20260425T173813Z
SUMMARY:Improv Comedy:  The N Crowd 9 Year Anniversary Show
DESCRIPTION:Join The N Crowd for a great night of comedy at the Ruba C
 lub. Â We celebrate 9 incredible years of performances. Â Join us for 
 comedy and drinks starting at 8pm. Â  Bring a friend and suggestions!\
 nFrequent guest to The N Crowd? Â Pay for your tickets withÂ Level UpÂ
  and start earning some free tickets. Â  Select \"other payment opitio
 ns\" and select \"Pay Offline.\" Â  Then installÂ Â Level UpÂ Â onto y
 our smartphone! Â You will pay at the door with your phone and be well
  on your way to earning some free tickets. Â  Â We will even give you 
 $5 off your first time purchase of tickets. There is no additinonal fe
 e for paying with this method. Â \nYou can purchase tickets in cash at
  the door or online with a major credit card. Doors open at 7:30 pm. R
 SVP's are held until 7:50 pm.\nPhilly Style Magazine called this show 
 ''Philadelphia's premier improv comedy troupe\" while the Philly Metro
  said that this troupe was \"keeping Philly funny.\" In 2008 and 2010,
  The N Crowd was named \"Best Comedy Club\" by City Voter's Hot List. 
 Get the best 80 minutes of entertainment that $12 can legally buy.Â Yo
 u can check out the official website for the latest news regarding sho
 ws.Â \nIf you like to laugh, then you'll love The N Crowd.\nVisit us a
 tÂ www.phillyncrowd.com\n\n\nFor more information visit http://phillyt
 odo.com/events/improv-comedy-the-n-crowd-9-year-anniversary-show
DTSTART:20140426T000000Z
DTEND:20140426T013000Z
CATEGORIES:comedy, show
LOCATION:Ruba Club Studios
WEBSITE:http://www.phillyncrowd.com
URL:http://www.phillyncrowd.com
CONTACT:215-253-4276
ORGANIZER;CN="BJ Ellis":http://phillytodo.com/profile/BJEllis
ATTACH;FMTTYPE="image/jpeg":http://storage.ning.com/topology/rest/1.0/
 file/get/3054958408?profile=original
ATTENDEE;ROLE=REQ-PARTICIPANT;PARTSTAT=ACCEPTED;RSVP=TRUE;CN="BJ Ellis
 ":http://phillytodo.com/profile/BJEllis
END:VEVENT
END:VCALENDAR
