BEGIN:VCALENDAR
PRODID:NingEventWidget-v1
VERSION:2.0
METHOD:PUBLISH
BEGIN:VEVENT
UID:4320450:Event:29710
DTSTAMP:20260425T175127Z
SUMMARY:Improv Comedy - The N Crowd
DESCRIPTION:The N Crowd wants you to share a laugh at the Actors Cente
 r. They perform improv entirely dependent on suggestions provided by t
 he audience. When you come, you're expected to have a slew of things t
 o yell out when asked for suggestions. Philly Style magazine called t
 his show ''Philadelphia's premier improv comedy troupe\" while the Phi
 lly Metro said that this troupe was \"keeping Philly funny.\" In 2008 
 and 2010, The N Crowd was named \"Best Comedy Club\" by City Voter's H
 ot List. Get the best 80 minutes of entertainment that $12 can legally
  buy. You can check out the official website for the latest news rega
 rding shows. Who knows what special guests might appear on any given w
 eek? Maybe someone you know will be a special guest this week. If you
  like to laugh, then you'll love The N Crowd.\n\nFor more information 
 visit http://phillytodo.com/events/improv-comedy-the-n-crowd-774
DTSTART:20130309T010000Z
DTEND:20130309T023000Z
CATEGORIES:improv, comedy, show
LOCATION:The Actors Center
WEBSITE:http://www.phillyncrowd.com
URL:http://www.phillyncrowd.com
CONTACT:2152534276
ORGANIZER:The N Crowd
ATTACH;FMTTYPE="image/jpeg":
ATTENDEE;ROLE=REQ-PARTICIPANT;PARTSTAT=ACCEPTED;RSVP=TRUE;CN="BJ Ellis
 ":http://phillytodo.com/profile/BJEllis
END:VEVENT
END:VCALENDAR
