BEGIN:VCALENDAR
PRODID:NingEventWidget-v1
VERSION:2.0
METHOD:PUBLISH
BEGIN:VEVENT
UID:4320450:Event:28421
DTSTAMP:20260425T161821Z
SUMMARY:Improv Comedy - The N Crowd
DESCRIPTION:The N Crowd wants you to share a laugh at the Actors Cente
 r. They perform improv entirely dependent on suggestions provided by t
 he audience. When you come, you're expected to have a slew of things t
 o yell out when asked for suggestions.Â You can purchase tickets in ca
 sh at the door or online with a major credit card. Doors open at 7:30 
 pm. RSVP's are held until 7:50 pm.Philly Style Magazine called this sh
 ow ''Philadelphia's premier improv comedy troupe\" while the Philly Me
 tro said that this troupe was \"keeping Philly funny.\" In 2008 and 20
 10, The N Crowd was named \"Best Comedy Club\" by City Voter's Hot Lis
 t. Get the best 80 minutes of entertainment that $12 can legally buy.Â
  You can check out the official website for the latest news regarding 
 shows. Who knows what special guests might appear on any given week? M
 aybe someone you know will be a special guest this week.Â If you like 
 to laugh, then you'll love The N Crowd.\n\nFor more information visit 
 http://phillytodo.com/events/improv-comedy-the-n-crowd-21
DTSTART:20121110T010000Z
DTEND:20121110T023000Z
CATEGORIES:improv, comedy, show
LOCATION:The Actors Center
WEBSITE:http://www.phillyncrowd.com
URL:http://www.phillyncrowd.com
CONTACT:2152534276
ORGANIZER;CN="BJ Ellis":http://phillytodo.com/profile/BJEllis
ATTACH;FMTTYPE="image/jpeg":http://storage.ning.com/topology/rest/1.0/
 file/get/3054958472?profile=original
ATTENDEE;ROLE=REQ-PARTICIPANT;PARTSTAT=ACCEPTED;RSVP=TRUE;CN="BJ Ellis
 ":http://phillytodo.com/profile/BJEllis
END:VEVENT
END:VCALENDAR
