BEGIN:VCALENDAR
PRODID:NingEventWidget-v1
VERSION:2.0
METHOD:PUBLISH
BEGIN:VEVENT
UID:4320450:Event:36918
DTSTAMP:20260425T125030Z
SUMMARY:Improv Comedy:  The N Crowd
DESCRIPTION:The N Crowd wants you to share a laugh at the Actors Cente
 r. They perform improv entirely dependent on suggestions provided by t
 he audience. When you come, you're expected to have a slew of things t
 o yell out when asked for suggestions. \nYou can purchase tickets in 
 cash at the door or online with a major credit card. Doors open at 7:3
 0 pm. RSVP's are held until 7:50 pm.Philly Style Magazine called this 
 show ''Philadelphia's premier improv comedy troupe\" while the Philly 
 Metro said that this troupe was \"keeping Philly funny.\" In 2008 and 
 2010, The N Crowd was named \"Best Comedy Club\" by City Voter's Hot L
 ist. Get the best 80 minutes of entertainment that $12 can legally buy
 . You can check out the official website for the latest news regardin
 g shows. \nIf you like to laugh, then you'll love The N Crowd.\nVisit
  us at www.phillyncrowd.com\n\n\nFor more information visit http://ph
 illytodo.com/events/improv-comedy-the-n-crowd-207
DTSTART:20140517T000000Z
DTEND:20140517T013000Z
CATEGORIES:comedy
LOCATION:The Actors Center
WEBSITE:http://www.phillyncrowd.com
URL:http://www.phillyncrowd.com
CONTACT:215-253-4276
ORGANIZER;CN="BJ Ellis":http://phillytodo.com/profile/BJEllis
ATTACH;FMTTYPE="image/jpeg":http://storage.ning.com/topology/rest/1.0/
 file/get/3054958408?profile=original
ATTENDEE;ROLE=REQ-PARTICIPANT;PARTSTAT=ACCEPTED;RSVP=TRUE;CN="BJ Ellis
 ":http://phillytodo.com/profile/BJEllis
END:VEVENT
END:VCALENDAR
