BEGIN:VCALENDAR
PRODID:NingEventWidget-v1
VERSION:2.0
METHOD:PUBLISH
BEGIN:VEVENT
UID:4320450:Event:41217
DTSTAMP:20260425T143454Z
SUMMARY:Improv Comedy: The N Crowd
DESCRIPTION:The N Crowd wants you to share a laugh at the Actors Cente
 r. They perform improv entirely dependent on suggestions provided by t
 he audience. When you come, you're expected to have a slew of things t
 o yell out when asked for suggestions. \n You can purchase tickets in
  cash at the door or online with a major credit card. Doors open at 7:
 30 pm. RSVP's are held until 7:50 pm.  Philly Style Magazine called th
 is show ''Philadelphia's premier improv comedy troupe\" while the Phil
 ly Metro said that this troupe was \"keeping Philly funny.\" In 2008 ,
  2010, and 2013 The N Crowd was named \"Best Comedy Club\" by City Vot
 er's Hot List. Get the best 80 minutes of entertainment that $12 can l
 egally buy.   You can check out the official website for the latest n
 ews regarding shows. \n If you like to laugh, then you'll love The N 
 Crowd. \nVisit us at www.phillyncrowd.com\n\n\nFor more information v
 isit http://phillytodo.com/events/improv-comedy-the-n-crowd-106
DTSTART:20150829T000000Z
DTEND:20150829T013000Z
CATEGORIES:improv, comedy, show
LOCATION:The Actors Center
WEBSITE:http://www.phillyncrowd.com
URL:http://www.phillyncrowd.com
CONTACT:215-253-4276
ORGANIZER;CN="BJ Ellis":http://phillytodo.com/profile/BJEllis
ATTACH;FMTTYPE="image/jpeg":http://storage.ning.com/topology/rest/1.0/
 file/get/3054958472?profile=original
ATTENDEE;ROLE=REQ-PARTICIPANT;PARTSTAT=ACCEPTED;RSVP=TRUE;CN="BJ Ellis
 ":http://phillytodo.com/profile/BJEllis
END:VEVENT
END:VCALENDAR
