BEGIN:VCALENDAR
PRODID:NingEventWidget-v1
VERSION:2.0
METHOD:PUBLISH
BEGIN:VEVENT
UID:4320450:Event:41245
DTSTAMP:20260425T125820Z
SUMMARY:Improv 101 in FOUR DAYS at PHIT! (Intensive)
DESCRIPTION:Learn the entire Improv 101 course in just FOUR DAYS! This
  Improv 101 intensive with Caitlin Weigel is specifically designed and
  scheduled to get you everything you would learn over a normal 8 week 
 class in just FOUR DAYS! \n\nTuesdays, August 11th through Friday Aug
 ust 14th from 12:30pm - 5:00pm. You even have a graduation show on Sat
 urday 8/15 at 5:00pm!\n\n“Intro to Improvised Scenework”: Student
 s will learn the basic improv concept of “Yes, and..” and discover
  how a scene can be created through agreement. They will also learn im
 portant basic improv skills like: creating characters, establishing re
 lationships, exploring scenes with objects and environment work. Stude
 nts will then combine these skills to create fully improvised scenes w
 ith a partner.Pre-requisites: None!\n\nAny questions email classes@ph
 illyimprovtheater.com.\n\nFor more information visit http://phillytodo
 .com/events/improv-101-in-four-days-at-phit-intensive
DTSTART:20150811T163000Z
DTEND:20150814T210000Z
CATEGORIES:class, workshop, good, time
LOCATION:Philly Improv Theater
WEBSITE:http://www.phillyimprovtheater.com/enroll-now/
URL:http://www.phillyimprovtheater.com/enroll-now/
CONTACT:267-233-1556
ORGANIZER;CN="Philly Improv Theater":http://phillytodo.com/profile/Mik
 eMarbach
ATTACH;FMTTYPE="image/jpeg":http://storage.ning.com/topology/rest/1.0/
 file/get/3054988738?profile=original
ATTENDEE;ROLE=REQ-PARTICIPANT;PARTSTAT=ACCEPTED;RSVP=TRUE;CN="Philly I
 mprov Theater":http://phillytodo.com/profile/MikeMarbach
END:VEVENT
END:VCALENDAR
