BEGIN:VCALENDAR
PRODID:NingEventWidget-v1
VERSION:2.0
METHOD:PUBLISH
BEGIN:VEVENT
UID:4320450:Event:49372
DTSTAMP:20260425T175630Z
SUMMARY:Immigration Stories: Speechless by Linda Brogan and Polly Teal
 e
DESCRIPTION:Inis Nua Theatre Company’s Immigration Stories reading s
 eries features Speechless by Linda Brogan and Polly Teale on Monday, M
 ay 1, at 7:00 pm in the Proscenium Theater at the Drake.  First produ
 ced by Shared Experience and Sherman Cymru in Cardiff at the Chapter A
 rts Centre, Speechless is the extraordinary story of June and Jennifer
  Gibbons, the children of immigrants from Barbados living in Wales. Di
 agnosed as “elective mutes”, these identical twins build their own
  intense and secret world, speaking to each other in their own private
  language but refusing to communicate with anyone else. Based on a tru
 e story related in the book The Silent Twins by Marjorie Wallace, Spee
 chless was called “a story of stark and stunning oddness” by The I
 ndependent, as well as “brilliant, bleak, but redemptive.” Tickets
  are on sale for $10 by calling (215) 454-9776 or visiting inisnuathea
 tre.org. Immigration Stories is supported by a grant from the Virginia
  Brown Martin Fund of The Philadelphia Foundation.\n\nFor more informa
 tion visit http://phillytodo.com/events/immigration-stories-speechless
 -by-linda-brogan-and-polly-teale
DTSTART:20170501T230000Z
DTEND:20170502T010000Z
CATEGORIES:play, theatre
LOCATION:The Proscenium Theater at The Drake
WEBSITE:http://inisnuatheatre.org/reading-series/
URL:http://inisnuatheatre.org/reading-series/
CONTACT:215-454-9776
ORGANIZER;CN="Aversa PR & Events":http://phillytodo.com/profile/KoryAv
 ersa277
ATTACH;FMTTYPE="image/jpeg":http://storage.ning.com/topology/rest/1.0/
 file/get/3055002206?profile=original
ATTENDEE;ROLE=REQ-PARTICIPANT;PARTSTAT=ACCEPTED;RSVP=TRUE;CN="Aversa P
 R & Events":http://phillytodo.com/profile/KoryAversa277
END:VEVENT
END:VCALENDAR
