BEGIN:VCALENDAR
PRODID:NingEventWidget-v1
VERSION:2.0
METHOD:PUBLISH
BEGIN:VEVENT
UID:4320450:Event:35011
DTSTAMP:20260425T142542Z
SUMMARY:Ignition Philly Closing Ceremony
DESCRIPTION:Ignition Philly, hosted by Ignite Good and The Huffington 
 Post brings together individuals involved in social change work from P
 hiladelphia-based, millennial-led organizations. Over the course of th
 ree days, participants will learn and develop powerful storytelling sk
 ills that will help them be more compelling and memorableÂ advocates f
 or themselves and their organizations. Together these organizational l
 eaders and community supporters and beneficiaries turned team membersÂ
  will get to know otherÂ 'valuable strangers'Â in Philly working for c
 hange and explore the common stories linking their work together. By h
 elpingÂ democratize storytelling skills within this community, Ignite 
 Good hopes to build on the movement that's already underway inÂ Philad
 elphia and to play our small part in fostering the growing ecosystem o
 f social change organizations that are shaping theÂ bright future of t
 he city.\nÂ \nTheÂ closing ceremonyÂ to Ignition Philly will invite pe
 ople from the city to join our participants as they share their final 
 public narratives and their vision for the future of Philadelphia. RSV
 P here:Â http://www.eventbrite.com/event/6445108493Â \nÂ \n\nFor more 
 information visit http://phillytodo.com/events/ignition-philly-closing
 -ceremony
DTSTART:20131111T230000Z
DTEND:20131112T010000Z
CATEGORIES:storytelling
LOCATION:The Friends Center
WEBSITE:http://www.eventbrite.com/event/6445108493
URL:http://www.eventbrite.com/event/6445108493
CONTACT:
ORGANIZER:Ignite Good and Huffington Post
ATTACH;FMTTYPE="image/jpeg":http://storage.ning.com/topology/rest/1.0/
 file/get/3054970945?profile=original
ATTENDEE;ROLE=REQ-PARTICIPANT;PARTSTAT=ACCEPTED;RSVP=TRUE;CN="Chelsea 
 Brownridge":http://phillytodo.com/profile/ChelseaBrownridge
END:VEVENT
END:VCALENDAR
