BEGIN:VCALENDAR
PRODID:NingEventWidget-v1
VERSION:2.0
METHOD:PUBLISH
BEGIN:VEVENT
UID:4320450:Event:43008
DTSTAMP:20260425T101159Z
SUMMARY:IFDA Take A Seat Gala and Charity Auction
DESCRIPTION:Join the International Furnishings and Design Association 
 for a fun-filled evening of live auction action! The IFDA Take a Seat 
 Gala and Charity Auction at the National Constitution Center will feat
 ure up-cycled chairs creatively redesigned by local members of the fur
 nishings and design industry. On October 16th, these unique works of a
 rt will be put up for auction, with all proceeds benefiting Project HO
 ME. Stroll through the gala, bid on your favorites, and enjoy an open 
 bar and delicious food by Brulee Catering!\n\nFor more information vis
 it http://phillytodo.com/events/ifda-take-a-seat-gala-and-charity-auct
 ion
DTSTART:20151016T220000Z
DTEND:20151017T020000Z
CATEGORIES:gala, and, charity, auction
LOCATION:National Constitution Center
WEBSITE:http://www.ifdatakeaseat.com/about/ifda-philadelphia
URL:http://www.ifdatakeaseat.com/about/ifda-philadelphia
CONTACT:2154096600
ORGANIZER;CN="Skai Blue Media":http://phillytodo.com/profile/SkaiBlueM
 edia
ATTACH;FMTTYPE="image/jpeg":http://storage.ning.com/topology/rest/1.0/
 file/get/3054993044?profile=original
ATTENDEE;ROLE=REQ-PARTICIPANT;PARTSTAT=ACCEPTED;RSVP=TRUE;CN="Skai Blu
 e Media":http://phillytodo.com/profile/SkaiBlueMedia
END:VEVENT
END:VCALENDAR
