BEGIN:VCALENDAR
PRODID:NingEventWidget-v1
VERSION:2.0
METHOD:PUBLISH
BEGIN:VEVENT
UID:4320450:Event:25413
DTSTAMP:20260425T113415Z
SUMMARY:Ides of March Wine Tasting
DESCRIPTION:For the Ides of March, we are having a wine tasting.  Et 
 tu, Brute?\nIn honor of that fateful day in 44 BC when Julius Ceasar w
 as stabbed to death, we will taste wines from countries within the geo
 graphical extent of the    Roman Republic - those areas under Roman
  control at the time of Ceasar's death.  These include the modern pla
 ce-names of Italy, France, Spain, Germany, Greece, Turkey, Bulgaria, M
 acedonia, Slovenia, Lebanon, Syria, Israel, Palestine, and Jordan, as 
 well as the entire Mediterranean coast of North Africa. A wine-produci
 ng republic, indeed!\nAncient Romans would celebrate the god of War an
 d Agriculture, Mars, on the the Ides of March.  We shall do the same 
 by celebrating the viticulture (lets skip the warfare) of that vast an
 d fertile Republic.\nOkay, technically speaking the Ides of March were
  on the 15th in the Roman calendar (13th for some other months), but w
 e are taking poetic license.5 wines, plus snacks, $25 AND 15% off your
  bar tab after the class.\nSpace is limited! so reserve yours now.\n\n
 For more information visit http://phillytodo.com/events/ides-of-march-
 wine-tasting
DTSTART:20120313T223000Z
DTEND:20120314T003000Z
CATEGORIES:wine, tasting
LOCATION:Jet Wine Bar
WEBSITE:http://jetwinebar.tumblr.com/Passport
URL:http://jetwinebar.tumblr.com/Passport
CONTACT:
ORGANIZER:Kylie Flett
ATTACH;FMTTYPE="image/jpeg":http://storage.ning.com/topology/rest/1.0/
 file/get/3054958088?profile=original
ATTENDEE;ROLE=REQ-PARTICIPANT;PARTSTAT=ACCEPTED;RSVP=TRUE;CN="Lauren W
 enzel":http://phillytodo.com/profile/JacklinRhoads
END:VEVENT
END:VCALENDAR
