BEGIN:VCALENDAR
PRODID:NingEventWidget-v1
VERSION:2.0
METHOD:PUBLISH
BEGIN:VEVENT
UID:4320450:Event:35973
DTSTAMP:20260425T142652Z
SUMMARY:Ice Cream Workshop with Little Baby’s
DESCRIPTION:Registration Required. For Little Baby's, ice cream is a f
 eeling.  Producing small-batch, hand-made ice-cream with visionary an
 d sometimes just plain loony, flavors made from high-quality local and
  sustainable milk. Co-founder Martin Brown will lead a workshop center
 ed around the basics of ice cream production in the home kitchen and u
 sing your imagination to make your own delicious icy and creamy treats
 . This workshop can be enjoyed by folks with ice-cream makers and thos
 e without. Don't miss this! Martin will discuss custards, philly-style
  ice cream, non-dairy frozen treats and water ice.\n\nFor more informa
 tion visit http://phillytodo.com/events/ice-cream-workshop-with-little
 -baby-s
DTSTART:20140531T160000Z
DTEND:20140531T180000Z
CATEGORIES:cooking, workshop
LOCATION:Greensgrow Community Kitchen at St. Michael's Lutheran Church
WEBSITE:http://www.greensgrow.org/event/ice-cream-at-home-workshop-wit
 h-little-babys-ice-cream/
URL:http://www.greensgrow.org/event/ice-cream-at-home-workshop-with-li
 ttle-babys-ice-cream/
CONTACT:
ORGANIZER;CN="Greensgrow Farms":http://phillytodo.com/profile/Greensgr
 owFarms
ATTACH;FMTTYPE="image/jpeg":
ATTENDEE;ROLE=REQ-PARTICIPANT;PARTSTAT=ACCEPTED;RSVP=TRUE;CN="Greensgr
 ow Farms":http://phillytodo.com/profile/GreensgrowFarms
END:VEVENT
END:VCALENDAR
