BEGIN:VCALENDAR
PRODID:NingEventWidget-v1
VERSION:2.0
METHOD:PUBLISH
BEGIN:VEVENT
UID:4320450:Event:41013
DTSTAMP:20260425T144748Z
SUMMARY:http://www.schuylkillcenter.org/blog/event/local-plant-dyeing-
 workshop-foraging-extracting-color/
DESCRIPTION:Learn to use plants to produce natural dyes.  Elissa Meye
 rs and Mira Adornetto ofBLUEREDYELLOW will lead a two-part workshop a
 bout natural dyeing.  The series starts with a hike to identify and
  collect plants.  On day two we’ll talk about the history of these 
 plants and dye fabrics with the collected material.  Bring a lunch on
  Saturday.  Pre-registration required.\nParticipants will take away 
 worksheets, samples, and a silk scarf dyed with the plants collected o
 n the hike.\nTwo part course:Friday, July 17, Foraging Hike | 6:00 pm 
 – 8:00 pmSaturday, July 18, Dyeing Workshop | 10:00 am – 3:00 pm\n
 $20 Hike only, $60 Workshop.  Both sessions: $75.  Register online 
 now.\nAt this workshop:We’ll learn about the history of natural dyei
 ng then dye silk scarves with the material collected at the Friday fo
 raging hike.\n\nFor more information visit http://phillytodo.com/event
 s/http-www-schuylkillcenter-org-blog-event-local-plant-dyeing
DTSTART:20150718T140000Z
DTEND:20150718T190000Z
CATEGORIES:art, workshop
LOCATION:Schuylkill Center for Environmental Education
WEBSITE:http://www.schuylkillcenter.org/blog/event/local-plant-dyeing-
 workshop-foraging-extracting-color/
URL:http://www.schuylkillcenter.org/blog/event/local-plant-dyeing-work
 shop-foraging-extracting-color/
CONTACT:215-482-7300, x110
ORGANIZER;CN="The Schuylkill Center":http://phillytodo.com/profile/Ann
 aLehrMueser
ATTACH;FMTTYPE="image/jpeg":http://storage.ning.com/topology/rest/1.0/
 file/get/3054988332?profile=original
ATTENDEE;ROLE=REQ-PARTICIPANT;PARTSTAT=ACCEPTED;RSVP=TRUE;CN="The Schu
 ylkill Center":http://phillytodo.com/profile/AnnaLehrMueser
END:VEVENT
END:VCALENDAR
