BEGIN:VCALENDAR
PRODID:NingEventWidget-v1
VERSION:2.0
METHOD:PUBLISH
BEGIN:VEVENT
UID:4320450:Event:49002
DTSTAMP:20260425T131002Z
SUMMARY:Howl at the Moon at The Vault Grand Opening
DESCRIPTION:Howl at the Moon brings the dueling piano experience to Ph
 iladelphia’s suburbs starting this week. Valley Forge Casino Resort 
 (1160 First Avenue) and The Vault nightclub and music venue welcome Ho
 wl at the Moon each and every Saturday, with the grand opening slated 
 for January 14, 2017. Get ready to sing, dance and howl as the versati
 le and talented musicians perform live music from 80’s rock, 90’s 
 pop and today’s dance hits on pianos. Doors open at 8:00pm and the l
 ive show from 9pm to 12:30am. The party continues at The Vault until 2
 am. Admission is free and open to those 21 and up only. For more infor
 mation visit www.vfcasino.com\n\nFor more information visit http://phi
 llytodo.com/events/howl-at-the-moon-at-the-vault-grand-opening
DTSTART:20170115T010000Z
DTEND:20170115T070000Z
CATEGORIES:nightlife
LOCATION:The Vault, Valley Forge Casino Resort
WEBSITE:https://www.vfcasino.com/nightlife/the-vault/
URL:https://www.vfcasino.com/nightlife/the-vault/
CONTACT:610-354-8222
ORGANIZER:Valley Forge Casino Resort
ATTACH;FMTTYPE="image/jpeg":
ATTENDEE;ROLE=REQ-PARTICIPANT;PARTSTAT=ACCEPTED;RSVP=TRUE;CN="Aversa P
 R & Events":http://phillytodo.com/profile/KoryAversa277
END:VEVENT
END:VCALENDAR
