BEGIN:VCALENDAR
PRODID:NingEventWidget-v1
VERSION:2.0
METHOD:PUBLISH
BEGIN:VEVENT
UID:4320450:Event:47186
DTSTAMP:20260425T124303Z
SUMMARY:How We Got On by Idris Goodwin
DESCRIPTION:Azuka Theatre presents the Philadelphia premiere of How We
  Got On by Idris Goodwin, from September 21 to October 9, 2016, at the
  Louis Bluver Theatre at The Drake (302 S. Hicks St). Hank, Julian, an
 d Luann are three talented, determined suburban teens coming of age in
  the 1980s. Dreaming of fame and fortune in the new Hip-Hop music scen
 e, they must overcome cultural isolation, familial dysfunction, and ru
 thless rivalries to make the music that defines their lives. A sultry 
 DJ spins their stories with her own meta-theatrical perspective in thi
 s contemporary ode to the roots of rap. Directed by Raelle Myrick-Hodg
 es. Tickets for this production are pay what you decide. Patrons reser
 ve a ticket ahead of the show on the Azuka website, and pay what you d
 ecide after seeing the production. Reserve your seat and learn more at
  www.azukatheatre.org\n\nFor more information visit http://phillytodo.
 com/events/how-we-got-on-by-idris-goodwin
DTSTART:20160922T000000Z
DTEND:20161009T180000Z
CATEGORIES:theatre
LOCATION:Louis Bluver Theatre at The Drake
WEBSITE:https://azukatheatre.secure.force.com/ticket/#details_a0So0000
 004iIS5EAM
URL:https://azukatheatre.secure.force.com/ticket/#details_a0So0000004i
 IS5EAM
CONTACT:(215) 563-1100
ORGANIZER;CN="Aversa PR & Events":http://phillytodo.com/profile/KoryAv
 ersa277
ATTACH;FMTTYPE="image/jpeg":http://storage.ning.com/topology/rest/1.0/
 file/get/3054996849?profile=original
ATTENDEE;ROLE=REQ-PARTICIPANT;PARTSTAT=ACCEPTED;RSVP=TRUE;CN="Aversa P
 R & Events":http://phillytodo.com/profile/KoryAversa277
END:VEVENT
END:VCALENDAR
