BEGIN:VCALENDAR
PRODID:NingEventWidget-v1
VERSION:2.0
METHOD:PUBLISH
BEGIN:VEVENT
UID:4320450:Event:31856
DTSTAMP:20260425T141234Z
SUMMARY:How to Pay for College
DESCRIPTION:Psssst!! Want to go to college, but don't know where to ge
 t the funds?Attend our program and find little Known Secrets of Paying
  for College!Presented by PHEAA. Registration required.\n\nFor more in
 formation visit http://phillytodo.com/events/how-to-pay-for-college
DTSTART:20130513T210000Z
DTEND:20130513T223000Z
CATEGORIES:college, funds, preperation
LOCATION:Location: Lansdowne Public Library
WEBSITE:http://lansdownepubliclibrary.com/
URL:http://lansdownepubliclibrary.com/
CONTACT:(610) 623-0239
ORGANIZER;CN="Lansdowne Public Library":http://phillytodo.com/profile/
 LansdownePublicLibrary
ATTACH;FMTTYPE="image/jpeg":http://storage.ning.com/topology/rest/1.0/
 file/get/3054965805?profile=original
ATTENDEE;ROLE=REQ-PARTICIPANT;PARTSTAT=ACCEPTED;RSVP=TRUE;CN="Lansdown
 e Public Library":http://phillytodo.com/profile/LansdownePublicLibrary
END:VEVENT
END:VCALENDAR
