BEGIN:VCALENDAR
PRODID:NingEventWidget-v1
VERSION:2.0
METHOD:PUBLISH
BEGIN:VEVENT
UID:4320450:Event:46730
DTSTAMP:20260425T195352Z
SUMMARY:How to Fund your Fashion Business
DESCRIPTION:Learn about how to fund your design business on Wednesday,
  July 13th from 6:00-8:00pm. The program will be held at new co-workin
 g space WeWork in Northern Liberties, and will feature David Estrakh a
 nd Drew Cohn of Express Trade Capital, Kendra Brill of DeSimone Group 
 Investments and Erik Seel of Fashinvest, with discussion regarding fun
 ding options available for designers to launch and grow their business
 es.\n\nFor more information visit http://phillytodo.com/events/how-to-
 fund-your-fashion-business
DTSTART:20160713T220000Z
DTEND:20160714T000000Z
CATEGORIES:panel
LOCATION:WeWork
WEBSITE:
URL:
CONTACT:
ORGANIZER:Market & Shops at Comcast Center
ATTACH;FMTTYPE="image/jpeg":http://storage.ning.com/topology/rest/1.0/
 file/get/3054995586?profile=original
ATTENDEE;ROLE=REQ-PARTICIPANT;PARTSTAT=ACCEPTED;RSVP=TRUE;CN=CashmanAs
 soc:http://phillytodo.com/profile/CashmanAssoc
END:VEVENT
END:VCALENDAR
