BEGIN:VCALENDAR
PRODID:NingEventWidget-v1
VERSION:2.0
METHOD:PUBLISH
BEGIN:VEVENT
UID:4320450:Event:56436
DTSTAMP:20260425T123414Z
SUMMARY:How I Learned What I Learned
DESCRIPTION:In this solo show, the late playwright August Wilson share
 s stories about his first jobs, first loves, and his encounters with r
 acism in this theatrical memoir that charts one man’s journey of sel
 f-discovery through adversity.\n\n\n\n\nFor more information visit htt
 p://phillytodo.com/events/how-i-learned-what-i-learned
DTSTART:20190307T230000Z
DTEND:20190414T230000Z
CATEGORIES:play
LOCATION:Arden Theatre Company
WEBSITE:https://ardentheatre.org/event/how-i-learned-what-i-learned/20
 19-03-07/
URL:https://ardentheatre.org/event/how-i-learned-what-i-learned/2019-0
 3-07/
CONTACT:215-922-1122
ORGANIZER;CN="Arden Theatre Company":http://phillytodo.com/profile/Ard
 enTheatreCompany
ATTACH;FMTTYPE="image/jpeg":
ATTENDEE;ROLE=REQ-PARTICIPANT;PARTSTAT=ACCEPTED;RSVP=TRUE;CN="Arden Th
 eatre Company":http://phillytodo.com/profile/ArdenTheatreCompany
END:VEVENT
END:VCALENDAR
