BEGIN:VCALENDAR
PRODID:NingEventWidget-v1
VERSION:2.0
METHOD:PUBLISH
BEGIN:VEVENT
UID:4320450:Event:27812
DTSTAMP:20260425T143053Z
SUMMARY:Househead Appreciation Night with Venus 7 and Tony White
DESCRIPTION:Ok people..... On Saturday, September 15, 2012, you are co
 rdially invited to HOUSEHEAD APPRECIATION NIGHT at the latest Center C
 ity Hot Spot TABU! We will be taking you on a Deep Soulful House musi
 c journey!The Diva of the the Deep Venus 7 in collaboration with Nativ
 e Soul Ambassadors will bring you House Music just the way you like it
 ...the best of the new...the best of the old!! \nOf course, it wouldn
 't have that \"Native Soul\" feel without Darian creating the perfect 
 atmosphere to an already intimate space....as always you have to see i
 t to believe it! The Countdown Begins!!!!************** FREE TO ALL HO
 USEHEADS!!! ***************************************ALL NIGHT *********
 **********************DOORS OPEN AT 10 pm ; Drink SpecialsVisuals by T
 he Darian Jerard Co.\n\nFor more information visit http://phillytodo.c
 om/events/househead-appreciation-night-with-venus-7-and-tony-white
DTSTART:20120915T020000Z
DTEND:20120916T060000Z
CATEGORIES:dj-, real, house
LOCATION:Tabu Lounge and Sports bar
WEBSITE:http://www.tabuphilly.com
URL:http://www.tabuphilly.com
CONTACT:
ORGANIZER:Venus 7 and Global Influences & Native Soul Ambassadors
ATTACH;FMTTYPE="image/jpeg":http://storage.ning.com/topology/rest/1.0/
 file/get/3054958419?profile=original
ATTENDEE;ROLE=REQ-PARTICIPANT;PARTSTAT=ACCEPTED;RSVP=TRUE;CN="Venus 7 
 and Global Influences":http://phillytodo.com/profile/Venus7andGlobalIn
 fluences
END:VEVENT
END:VCALENDAR
