BEGIN:VCALENDAR
PRODID:NingEventWidget-v1
VERSION:2.0
METHOD:PUBLISH
BEGIN:VEVENT
UID:4320450:Event:53442
DTSTAMP:20260425T132828Z
SUMMARY:House of Claus: A Holiday SoirÃ©e
DESCRIPTION:\nThe Shops at Liberty Place, Center City's premiere retai
 l destination, is hosting House of Claus: a Holiday SoirÃ©e on Tuesday
 , December 5 from 6 to 8 p.m. in the Rotunda â€” a shopping, dining an
 d indulging event to benefit kids in need. The decadent holiday party 
 will offer guests festive-inspired food from top area restaurants incl
 uding Ocean Prime, Square 1682, Davioâ€™s Northern Italian Steakhouse 
 and others, beverages from Grace Winery and Bluebird Distilling, live 
 music from Exit 22 jazz quartet, live modeling showcasing the seasonâ€
 ™s hottest looks, and additional seasonal merriment to celebrate the 2
 017 holiday season â€” all bathed in sparkling special-effect lighting
 . Co-sponsored by the Center City District. Â \nAll for just a $10 don
 ation toÂ Variety â€” the Children's Charity. Cheers to the season! Fr
 om all of us at The Shops at Liberty Place.Â \n\n\n\n\n\n\n\nFor more 
 information visit http://phillytodo.com/events/house-of-claus-a-holida
 y-soir-e
DTSTART:20171205T230000Z
DTEND:20171206T010000Z
CATEGORIES:fundraiser
LOCATION:The Shops at Liberty Place
WEBSITE:https://punch-media.ticketleap.com/house-of-claus-a-holiday-sh
 opping-soire/details
URL:https://punch-media.ticketleap.com/house-of-claus-a-holiday-shoppi
 ng-soire/details
CONTACT:
ORGANIZER:The Shops at Liberty Place
ATTACH;FMTTYPE="image/jpeg":http://storage.ning.com/topology/rest/1.0/
 file/get/3055009949?profile=original
ATTENDEE;ROLE=REQ-PARTICIPANT;PARTSTAT=ACCEPTED;RSVP=TRUE;CN="Punch Me
 dia":http://phillytodo.com/profile/PunchMedia
END:VEVENT
END:VCALENDAR
