BEGIN:VCALENDAR
PRODID:NingEventWidget-v1
VERSION:2.0
METHOD:PUBLISH
BEGIN:VEVENT
UID:4320450:Event:34423
DTSTAMP:20260425T173729Z
SUMMARY:HopeCuts: East Passyunk Cuts Out Cancer
DESCRIPTION:Headhunter’s Hair Design joins over 100 top salons and s
 pas in Philadelphia and the Mid-Atlantic region to donate their time, 
 services and 100% of their daily proceeds for the 18th annual “Hope
 Cuts” event to benefit City of Hope.  On Sunday, September 15, 201
 3 from 12-4pm, staff will come in on their day off and volunteer time 
 to help cut out cancer, HIV/AIDS and other life-threatening illnesses.
  The event will have discounted services including: men’s haircut $1
 0, women’s haircut $25, spray tan $25, eyebrow wax $5, mini-makeover
  $25, plus refreshments, drinks and raffle prizes valued at $200+ and 
 much more. Come by and donate to a great cause and look good doing it
 ! Follow HopeCuts on Twitter at #hopecuts13.\n \nAbout City of Hope\n
 This year also marks the centennial anniversary of City of Hope, and t
 hey have proudly met this celebratory milestone by making break-throug
 h advances in the following areas: Type 1 Diabetes, Cancer Immunothera
 py Platform, developed a pioneering cancer drug, COH29 and T Cell Immu
 notherapy. The work conducted at City of Hope is shared with medical 
 centers worldwide, touching the lives of millions of people everywhere
 . \nThe City of Hope National Medical Center and Beckman Research Ins
 titute is a National Cancer Institute-designated Comprehensive Cancer 
 Center and has been named one of the Top 25 Cancer Hospitals in U.S. 
 News and World Report.  For more information about how you can suppor
 t City of Hope’s lifesaving research and treatment programs, please 
 call 1-800-260-HOPE, or visit the Web site at www.cityofhope.org.  C
 ity of Hope, Where the Power of Knowledge Saves Lives™.\n\nFor more
  information visit http://phillytodo.com/events/hopecuts-east-passyunk
 -cuts-out-cancer
DTSTART:20130915T160000Z
DTEND:20130915T200000Z
CATEGORIES:fundraiser, "haircuts + other services"
LOCATION:Headhunters Hair Design
WEBSITE:https://www.facebook.com/events/450699528376458/
URL:https://www.facebook.com/events/450699528376458/
CONTACT:215-840-9216
ORGANIZER;CN="Aversa PR & Events":http://phillytodo.com/profile/KoryAv
 ersa277
ATTACH;FMTTYPE="image/jpeg":http://storage.ning.com/topology/rest/1.0/
 file/get/3054967308?profile=original
ATTENDEE;ROLE=REQ-PARTICIPANT;PARTSTAT=ACCEPTED;RSVP=TRUE;CN="Aversa P
 R & Events":http://phillytodo.com/profile/KoryAversa277
END:VEVENT
END:VCALENDAR
