BEGIN:VCALENDAR
PRODID:NingEventWidget-v1
VERSION:2.0
METHOD:PUBLISH
BEGIN:VEVENT
UID:4320450:Event:38371
DTSTAMP:20260425T143843Z
SUMMARY:HopeCuts: Cut Out Cancer! (Various Salons Across the Philadelp
 hia Region)
DESCRIPTION:Help us cut out cancer! Over 100 top salons and spas in Ph
 iladelphia and the Mid-Atlantic region will donate their time, service
 s and 100% of their daily proceeds for the 19th annual “HopeCuts” 
 event to benefit City of Hope.\n \nOn Sunday, September 14, 2014 (or 
 an alternative date selected by salons), staff come in on their day of
 f and volunteer their time to help cut out cancer, HIV/AIDS and other 
 life-threatening illnesses. Check dates and times at participating sal
 ons when you book your appointments. Select salons will also accept wa
 lk-ins.\n \nHopeCuts events and promotions will vary by salon, but ma
 y include specially priced services, entertainment, refreshments, raff
 le prizes and more. Special thanks to Raylon Corporation for serving a
 s this year’s benefactor and parent sponsor.\n \nFor a full listing
  of participating salons, please visit www.hopecuts.org.\n \nFor more
  information about City of Hope, please call 1-800-344-8169, email hgi
 ordano@coh.org or visit www.cityofhope.org, https://www.facebook.com/c
 ityofhope.philadelphia, or https://twitter.com/CityofHopePhila.\n \nS
 alons and spas are invited to use hashtag #hopecuts14 to post their sp
 ecials and promotions on Twitter.\n\n\nFor more information visit http
 ://phillytodo.com/events/hopecuts-cut-out-cancer-various-salons-across
 -the-philadelphia
DTSTART:20140914T160000Z
DTEND:20140914T200000Z
CATEGORIES:benefit
LOCATION:Various Salons Across the Philadelphia Region
WEBSITE:https://www.facebook.com/events/481210138649078/?ref=br_tf
URL:https://www.facebook.com/events/481210138649078/?ref=br_tf
CONTACT:
ORGANIZER:City of Hope
ATTACH;FMTTYPE="image/jpeg":http://storage.ning.com/topology/rest/1.0/
 file/get/3054967308?profile=original
ATTENDEE;ROLE=REQ-PARTICIPANT;PARTSTAT=ACCEPTED;RSVP=TRUE;CN="Aversa P
 R & Events":http://phillytodo.com/profile/KoryAversa277
END:VEVENT
END:VCALENDAR
