BEGIN:VCALENDAR
PRODID:NingEventWidget-v1
VERSION:2.0
METHOD:PUBLISH
BEGIN:VEVENT
UID:4320450:Event:54991
DTSTAMP:20260425T145012Z
SUMMARY:Hope's Night Out Auction and Cocktail Party to benefit Career 
 Wardrobe
DESCRIPTION:Join us for Hope’s Night Out, a fashionable and fun auct
 ion & cocktail reception benefiting Career Wardrobe. This event brings
  together the region’s corporations, public officials, and community
  leaders, and features a silent auction, networking reception, and pre
 sentation highlighting our impact in the community. The evening also i
 ncludes our Hope Walk, where participants who have successfully transi
 tioned to work are joined on the runway by media personalities, electe
 d representatives, and corporate sponsors, all of whom will donate the
  suit off their backs to an individual in need. This evening highlight
 s Career Wardrobe’s commitment to professional development and empow
 erment, showing that while our services might start with a suit, they 
 do so much more!\n\nFor more information visit http://phillytodo.com/e
 vents/hope-s-night-out-auction-and-cocktail-party-to-benefit-career-1
DTSTART:20180606T213000Z
DTEND:20180607T003000Z
CATEGORIES:fundraiser
LOCATION:Moore College of Art and Design
WEBSITE:http://www.careerwardrobe.org
URL:http://www.careerwardrobe.org
CONTACT:
ORGANIZER:Career Wardrobe
ATTACH;FMTTYPE="image/jpeg":http://storage.ning.com/topology/rest/1.0/
 file/get/3055002850?profile=original
ATTENDEE;ROLE=REQ-PARTICIPANT;PARTSTAT=ACCEPTED;RSVP=TRUE;CN="Paige Wo
 lf":http://phillytodo.com/profile/PaigeWolf
END:VEVENT
END:VCALENDAR
