BEGIN:VCALENDAR
PRODID:NingEventWidget-v1
VERSION:2.0
METHOD:PUBLISH
BEGIN:VEVENT
UID:4320450:Event:42510
DTSTAMP:20260425T112902Z
SUMMARY:HOOKED! by Inis Nua Theatre Company
DESCRIPTION:Inis Nua Theatre Company presents Hooked! by Gillian Gratt
 an at Fergie’s Pub (1214 Sansom Street) from October 7-25, 2015. A d
 ark comedy perfect for the Halloween season, Hooked! brings us a prett
 y little village where nothing is what it seems. The gossip, secrets a
 nd scandals will have you cringing and laughing. Hooked, ensnared, tra
 pped…trick or treat, anyone? Directed by Tom Reing.  Tickets are on
  sale at www.inisnuatheatre.org or by calling 215-454-9776.\n\nFor mor
 e information visit http://phillytodo.com/events/hooked-by-inis-nua-th
 eatre-company
DTSTART:20151007T230000Z
DTEND:20151025T180000Z
CATEGORIES:theater, performance
LOCATION:Fergie's Pub
WEBSITE:http://inisnuatheatre.org/current-show
URL:http://inisnuatheatre.org/current-show
CONTACT:215-454-9776
ORGANIZER;CN="Aversa PR & Events":http://phillytodo.com/profile/KoryAv
 ersa277
ATTACH;FMTTYPE="image/jpeg":http://storage.ning.com/topology/rest/1.0/
 file/get/3054990081?profile=original
ATTENDEE;ROLE=REQ-PARTICIPANT;PARTSTAT=ACCEPTED;RSVP=TRUE;CN="Aversa P
 R & Events":http://phillytodo.com/profile/KoryAversa277
END:VEVENT
END:VCALENDAR
