BEGIN:VCALENDAR
PRODID:NingEventWidget-v1
VERSION:2.0
METHOD:PUBLISH
BEGIN:VEVENT
UID:4320450:Event:39741
DTSTAMP:20260425T112508Z
SUMMARY:Hoodie & Heels
DESCRIPTION:Wear your hottest hoodie & heels to the Hoodie & Heels par
 ty on  Saturday, February 21st. Presented by Jenna Communications.Eve
 nt begins at 9pm. Enjoy $3 Devotion Vodka drinks.Enter for a chance to
  win Christian Louboutin shoes! Free parking is available after 8pm.\
 n\nFor more information visit http://phillytodo.com/events/hoodie-heel
 s
DTSTART:20150222T020000Z
DTEND:20150321T040000Z
CATEGORIES:women, ladies, drink, specials, fashion
LOCATION:United States
WEBSITE:http://www.xfinitylive.com/entertainment/event/3998
URL:http://www.xfinitylive.com/entertainment/event/3998
CONTACT:2674436415
ORGANIZER;CN="XFINITY Live! Philadelphia":http://phillytodo.com/profil
 e/XFINITYLivePhiladelphia
ATTACH;FMTTYPE="image/jpeg":http://storage.ning.com/topology/rest/1.0/
 file/get/3054986125?profile=original
ATTENDEE;ROLE=REQ-PARTICIPANT;PARTSTAT=ACCEPTED;RSVP=TRUE;CN="XFINITY 
 Live! Philadelphia":http://phillytodo.com/profile/XFINITYLivePhiladelp
 hia
END:VEVENT
END:VCALENDAR
