BEGIN:VCALENDAR
PRODID:NingEventWidget-v1
VERSION:2.0
METHOD:PUBLISH
BEGIN:VEVENT
UID:4320450:Event:59520
DTSTAMP:20260425T124856Z
SUMMARY:Honored
DESCRIPTION:Honored is a group exhibition featuring the eight photogr
 aphers awarded Honorable Mentions for the Contemporary Photography Com
 petition IX. Artists Lloyd Foster, Jillian Freyer, Ellie Ivanova, Eric
  Kunsman, Khanh Le, Zora Murff, Daniel Ramos, and Cassandra Zampini wi
 ll display their work in the new Hallway Gallery. Artists were selecte
 d by Dan Leers, the Curator of Photography at the Carnegie Museum of A
 rt.\n\nFor more information visit http://phillytodo.com/events/honored
DTSTART:20191212T150000Z
DTEND:20200222T230000Z
CATEGORIES:gallery
LOCATION:Philadelphia Photo Arts Center
WEBSITE:https://www.philaphotoarts.org/event/honored/
URL:https://www.philaphotoarts.org/event/honored/
CONTACT:215.232.5678
ORGANIZER;CN="Bryan Chan":http://phillytodo.com/profile/BryanChan
ATTACH;FMTTYPE="image/jpeg":https://storage.ning.com/topology/rest/1.0
 /file/get/3712996848?profile=original
ATTENDEE;ROLE=REQ-PARTICIPANT;PARTSTAT=ACCEPTED;RSVP=TRUE;CN="Bryan Ch
 an":http://phillytodo.com/profile/BryanChan
END:VEVENT
END:VCALENDAR
