BEGIN:VCALENDAR
PRODID:NingEventWidget-v1
VERSION:2.0
METHOD:PUBLISH
BEGIN:VEVENT
UID:4320450:Event:3736
DTSTAMP:20260425T144240Z
SUMMARY:\"Honey...I'm Still Shopping\" Delilah's Holiday SPECTACULAR!
DESCRIPTION:\"Honey...I'm Still Shopping\"\nDelilah's Holiday SPECTACU
 LAR! Wednesday, December 15\n\nFeaturing: Astonishing Performances, Ho
 liday Gift Give-a-Ways, Delilah's SEXY SANTA Contest, and Plenty of Na
 ughty Fun!\n\nSelect Open Bar and Butlered Hor D' Oeuvres begin at 7pm
 .\n\nDonations will be accepted for: PHILABUNDANCE\n\nAfter-Party at Z
 ee Bar - Dress to Impress!\n\nThere's no place like Delilah's for the 
 Holidays!\n\nFor more information visit http://phillytodo.com/events/h
 oneyim-still-shopping
DTSTART:20101216T000000Z
DTEND:20101216T070000Z
CATEGORIES:party
LOCATION:Delilah's Gentlemen's Club & Steakhouse
WEBSITE:http://www.delilahs.com
URL:http://www.delilahs.com
CONTACT:215-625-2800 x101
ORGANIZER;CN="Delilah's":http://phillytodo.com/profile/Delilahs
ATTACH;FMTTYPE="image/jpeg":http://storage.ning.com/topology/rest/1.0/
 file/get/3054954203?profile=original
ATTENDEE;ROLE=REQ-PARTICIPANT;PARTSTAT=ACCEPTED;RSVP=TRUE;CN="Delilah'
 s":http://phillytodo.com/profile/Delilahs
END:VEVENT
END:VCALENDAR
