BEGIN:VCALENDAR
PRODID:NingEventWidget-v1
VERSION:2.0
METHOD:PUBLISH
BEGIN:VEVENT
UID:4320450:Event:31832
DTSTAMP:20260425T173555Z
SUMMARY:Homeownership in Tough Times
DESCRIPTION:Gain knowledge and tips to avoid financial disaster and 
 keep your home in tough times.\nProgram conducted by Pennsylvania Depa
 rtment of Banking.\nRegistration required.\nRegister here.\n\nFor more
  information visit http://phillytodo.com/events/homeownership-in-tough
 -times
DTSTART:20130426T150000Z
DTEND:20130426T170000Z
CATEGORIES:financial, seminar, lesson, class
LOCATION:Lansdowne Public Library
WEBSITE:http://www.lansdownepubliclibrary.com/
URL:http://www.lansdownepubliclibrary.com/
CONTACT:610-623-0239
ORGANIZER;CN="Lansdowne Public Library":http://phillytodo.com/profile/
 LansdownePublicLibrary
ATTACH;FMTTYPE="image/jpeg":http://storage.ning.com/topology/rest/1.0/
 file/get/3054965892?profile=original
ATTENDEE;ROLE=REQ-PARTICIPANT;PARTSTAT=ACCEPTED;RSVP=TRUE;CN="Lansdown
 e Public Library":http://phillytodo.com/profile/LansdownePublicLibrary
END:VEVENT
END:VCALENDAR
