BEGIN:VCALENDAR
PRODID:NingEventWidget-v1
VERSION:2.0
METHOD:PUBLISH
BEGIN:VEVENT
UID:4320450:Event:37408
DTSTAMP:20260425T161346Z
SUMMARY:Homemade Chevre & Ricotta Workshop with Shady Apple Goat Farm
DESCRIPTION:Laurie Jenkins of Shady Apple Goats in Flourtown, Pa will 
 help you learn to make simple delicious cheeses perfect for your appet
 izer tray or to give as a homemade holiday gift.\n \nThe class discus
 ses the fundamentals of milk, the basics of making Chevre and ricotta,
  and hints for creative flavoring and packaging.\n \nEveryone will ta
 ke home a roll of chevre and fresh herbs.\nRegister: http://www.greens
 grow.org/event/homemade-chevre-ricotta-workshop-with-shady-apple-goat-
 farm/\n\nFor more information visit http://phillytodo.com/events/homem
 ade-chevre-ricotta-workshop-with-shady-apple-goat-farm
DTSTART:20140920T160000Z
DTEND:20140920T180000Z
CATEGORIES:cooking, class
LOCATION:Greensgrow Farms
WEBSITE:http://greensgrow.org
URL:http://greensgrow.org
CONTACT:2154272702
ORGANIZER;CN="Greensgrow Farms":http://phillytodo.com/profile/Greensgr
 owFarms
ATTACH;FMTTYPE="image/jpeg":
ATTENDEE;ROLE=REQ-PARTICIPANT;PARTSTAT=ACCEPTED;RSVP=TRUE;CN="Greensgr
 ow Farms":http://phillytodo.com/profile/GreensgrowFarms
END:VEVENT
END:VCALENDAR
