BEGIN:VCALENDAR
PRODID:NingEventWidget-v1
VERSION:2.0
METHOD:PUBLISH
BEGIN:VEVENT
UID:4320450:Event:2983
DTSTAMP:20260425T144256Z
SUMMARY:HOMECOMING ~ Zee Bar's Thanksgiving Eve Blowout!
DESCRIPTION:The Spring Garden Social Club Presents:\n\nHomecoming\nA F
 all Classic\n\nZee Bar's Thanksgiving Eve Blowout\n\nLegendary Sets by
 :\nROBBIE TRONCO and RONNIE D\n\nWith:\nChris Costanzo and Rob Lee in 
 Uforia\n\nFeaturing:\nMichael Romeo on Percussion\n\nFor Tickets and t
 o Reserve a Table for Bottle Service Please Contact Buffy Varanese at 
 215-922-2994 x106 or Buffy@Zee-Bar.com\n\nFor more information visit h
 ttp://phillytodo.com/events/homecoming-zee-bars
DTSTART:20101125T030000Z
DTEND:20101125T080000Z
CATEGORIES:party
LOCATION:Zee Bar Private Social Club
WEBSITE:http://www.zee-bar.com
URL:http://www.zee-bar.com
CONTACT:215-922-2994 x106
ORGANIZER;CN="Zee Bar Private Social Club":http://phillytodo.com/profi
 le/ZeeBarPrivateSocialClub
ATTACH;FMTTYPE="image/jpeg":http://storage.ning.com/topology/rest/1.0/
 file/get/3054950885?profile=original
ATTENDEE;ROLE=REQ-PARTICIPANT;PARTSTAT=ACCEPTED;RSVP=TRUE;CN="Zee Bar 
 Private Social Club":http://phillytodo.com/profile/ZeeBarPrivateSocial
 Club
END:VEVENT
END:VCALENDAR
