BEGIN:VCALENDAR
PRODID:NingEventWidget-v1
VERSION:2.0
METHOD:PUBLISH
BEGIN:VEVENT
UID:4320450:Event:43149
DTSTAMP:20260425T125012Z
SUMMARY:Holidays in Manayunk
DESCRIPTION:This season, it’s Manayunk! Shop small and shop local at
  over 50 small businesses to find something for everyone on your list.
  While you're in town shopping, get in the holiday spirit by joining u
 s at one of our holiday events.\nFor the first time ever, Manayunk wil
 l feature a Holiday Showcase Series located at 4323 Main Street. From 
 photo opportunities with Santa to performances by the Manayunk Theatre
  Company to a variety of different vendors and workshops, this is a ho
 liday opportunity you won't want to miss!\n\nFor more information visi
 t http://phillytodo.com/events/holidays-in-manayunk-2
DTSTART:20151128T160000Z
DTEND:20151225T220000Z
CATEGORIES:holidays
LOCATION:Manayunk
WEBSITE:http://manayunk.com/signature-events/holidays/
URL:http://manayunk.com/signature-events/holidays/
CONTACT:215-482-9565
ORGANIZER;CN="Manayunk Development Corporation":http://phillytodo.com/
 profile/ManayunkDevelopmentCorporation
ATTACH;FMTTYPE="image/jpeg":http://storage.ning.com/topology/rest/1.0/
 file/get/3054991191?profile=original
ATTENDEE;ROLE=REQ-PARTICIPANT;PARTSTAT=ACCEPTED;RSVP=TRUE;CN="Manayunk
  Development Corporation":http://phillytodo.com/profile/ManayunkDevelo
 pmentCorporation
END:VEVENT
END:VCALENDAR
